BEGIN:VCALENDAR
VERSION:2.0
PRODID:Events Booking
BEGIN:VEVENT
UID:69e7bef3c551b
SUMMARY:Northern Beaches Support Group - ONLINE
DESCRIPTION:Northern Sydney&nbsp\;support group
 This is a group meeting f
 or people who are supported by our&nbsp\;MND Advisor Lucy\,&nbsp\;that liv
 e in Northern Sydney\, Central Sydney and the Northern Beaches.
 *Please 
 note: this group will now be held ONLINE*
DTSTART:20210624T000000Z
DTEND:20210624T020000Z
DTSTAMP:20260421T181619Z
ORGANIZER;CN=MNDNSW Website - Events:MAILTO:info@mndnsw.org.au
END:VEVENT
END:VCALENDAR