BEGIN:VCALENDAR
VERSION:2.0
PRODID:Events Booking
BEGIN:VEVENT
UID:69e7bef7ea1c6
SUMMARY:Central Coast Fundraising Group 
DESCRIPTION:Bi-monthly meetings. Get-together and general discussion for ca
 rers\, past carers and anyone wanting to be involved with fundraising and 
 community events.&nbsp\;
LOCATION:2 Pandala Road
DTSTART:20210603T030000Z
DTEND:20210603T050000Z
DTSTAMP:20260421T181623Z
ORGANIZER;CN=MNDNSW Website - Events:MAILTO:info@mndnsw.org.au
GEO:-33.399319;151.335228
X-APPLE-STRUCTURED-LOCATION;VALUE=URI;X-ADDRESS=2 Pandala Road;X-APPLE-RADI
 US=72;X-TITLE=Gosford/Narara Neighbourhood Centre:-33.399319;151.335228
END:VEVENT
END:VCALENDAR