BEGIN:VCALENDAR
VERSION:2.0
PRODID:Events Booking
BEGIN:VEVENT
UID:69e7d0ff2f4da
SUMMARY:Illawarra Support Group 
DESCRIPTION:The Illawarra Support Group meets monthly in the Warrawong area
  or online. Venue for this group is the West Wing room\, Port Kembla Rehab
  hospital.
LOCATION:306 Cowper St\, Warrawong NSW 2502\, Australia
DTSTART:20210519T000000Z
DTEND:20210519T020000Z
DTSTAMP:20260421T193319Z
ORGANIZER;CN=MNDNSW Website - Events:MAILTO:info@mndnsw.org.au
GEO:-34.485294;150.882099
X-APPLE-STRUCTURED-LOCATION;VALUE=URI;X-ADDRESS=306 Cowper St\, Warrawong N
 SW 2502\, Australia;X-APPLE-RADIUS=72;X-TITLE=Port Kembla Hospital:-34.485
 294;150.882099
END:VEVENT
END:VCALENDAR