BEGIN:VCALENDAR
VERSION:2.0
PRODID:Events Booking
BEGIN:VEVENT
UID:69e795d282545
SUMMARY:ACT/Southern NSW Support Group
DESCRIPTION:The ACT/Southern NSW Morning Tea is held bi-monthly at Deakin i
 n Canberra or online.
 This event will be&nbsp\;online
DTSTART:20210818T003000Z
DTEND:20210818T013000Z
DTSTAMP:20260421T152050Z
ORGANIZER;CN=MNDNSW Website - Events:MAILTO:info@mndnsw.org.au
END:VEVENT
END:VCALENDAR