BEGIN:VCALENDAR
VERSION:2.0
PRODID:Events Booking
BEGIN:VEVENT
UID:69e76b3383358
SUMMARY:ACT/Southern NSW Support Group 
DESCRIPTION:The ACT/Southern NSW Morning Tea is held bi-monthly at Deakin i
 n Canberra or online. This event will be Online
DTSTART:20211019T233000Z
DTEND:20211020T003000Z
DTSTAMP:20260421T121859Z
ORGANIZER;CN=MNDNSW Website - Events:MAILTO:info@mndnsw.org.au
END:VEVENT
END:VCALENDAR