BEGIN:VCALENDAR
VERSION:2.0
PRODID:Events Booking
BEGIN:VEVENT
UID:69e7438adb6d2
SUMMARY:ACT/Southern NSW Support Group
DESCRIPTION:The ACT/Southern NSW Morning Tea is held bi-monthly at Deakin i
 n Canberra or online.
DTSTART:20211214T233000Z
DTEND:20211215T010000Z
DTSTAMP:20260421T092946Z
ORGANIZER;CN=MNDNSW Website - Events:MAILTO:info@mndnsw.org.au
END:VEVENT
END:VCALENDAR