BEGIN:VCALENDAR
VERSION:2.0
PRODID:Events Booking
BEGIN:VEVENT
UID:69e77fdf8b57c
SUMMARY:Illawarra Support Group 
DESCRIPTION:The Illawarra Support Group meets monthly in the Warrawong area
  or online. Venue for this group is Online
DTSTART:20210915T000000Z
DTEND:20210915T010000Z
DTSTAMP:20260421T134711Z
ORGANIZER;CN=MNDNSW Website - Events:MAILTO:info@mndnsw.org.au
END:VEVENT
END:VCALENDAR