BEGIN:VCALENDAR
VERSION:2.0
PRODID:Events Booking
BEGIN:VEVENT
UID:69e757fe6ed01
SUMMARY:Illawarra Support Group 
DESCRIPTION:The Illawarra Support Group meets monthly in the Warrawong area
  or online. Venue for this group is Online
DTSTART:20211116T230000Z
DTEND:20211117T010000Z
DTSTAMP:20260421T105702Z
ORGANIZER;CN=MNDNSW Website - Events:MAILTO:info@mndnsw.org.au
END:VEVENT
END:VCALENDAR