BEGIN:VCALENDAR
VERSION:2.0
PRODID:Events Booking
BEGIN:VEVENT
UID:69e7961b9142b
SUMMARY:North West Support Group - Tamworth *Online*
DESCRIPTION:Informal get together for exchange of information and support.&
 nbsp\;
DTSTART:20210802T003000Z
DTEND:20210802T020000Z
DTSTAMP:20260421T152203Z
ORGANIZER;CN=MNDNSW Website - Events:MAILTO:info@mndnsw.org.au
END:VEVENT
END:VCALENDAR