BEGIN:VCALENDAR
VERSION:2.0
PRODID:Events Booking
BEGIN:VEVENT
UID:69e76b5709a94
SUMMARY:North West Support Group - Tamworth 
DESCRIPTION:Informal get together for exchange of information and support. 
 This group will be held online.
DTSTART:20211010T233000Z
DTEND:20211011T003000Z
DTSTAMP:20260421T121935Z
ORGANIZER;CN=MNDNSW Website - Events:MAILTO:info@mndnsw.org.au
END:VEVENT
END:VCALENDAR