BEGIN:VCALENDAR
VERSION:2.0
PRODID:Events Booking
BEGIN:VEVENT
UID:69e795f6d51bf
SUMMARY:Central Coast Support Group - Online
DESCRIPTION:Bi-monthly meetings. Get-together\, general discussion\, usuall
 y with a guest speaker. This meeting will be held online.&nbsp\;
DTSTART:20210805T000000Z
DTEND:20210805T010000Z
DTSTAMP:20260421T152126Z
ORGANIZER;CN=MNDNSW Website - Events:MAILTO:info@mndnsw.org.au
END:VEVENT
END:VCALENDAR