BEGIN:VCALENDAR
VERSION:2.0
PRODID:Events Booking
BEGIN:VEVENT
UID:69e6f111e5c02
SUMMARY:North West Support Group 
DESCRIPTION:The North West Support Group currently meets bi-monthly and is 
 held online with your MND Advisor Savannah.&nbsp\;
DTSTART:20220411T000000Z
DTEND:20220411T010000Z
DTSTAMP:20220118T165827Z
ORGANIZER;CN=MNDNSW Website - Events:MAILTO:info@mndnsw.org.au
END:VEVENT
END:VCALENDAR