BEGIN:VCALENDAR
VERSION:2.0
PRODID:Events Booking
BEGIN:VEVENT
UID:69e71ae277ec9
SUMMARY:Central Coast Support Group 
DESCRIPTION:This is an online group for people who are supported by&nbsp\;M
 ND Advisor Kath\,&nbsp\;that live on the Central Coast.
DTSTART:20220203T000000Z
DTEND:20220203T010000Z
DTSTAMP:20220120T163106Z
ORGANIZER;CN=MNDNSW Website - Events:MAILTO:info@mndnsw.org.au
END:VEVENT
END:VCALENDAR