BEGIN:VCALENDAR
VERSION:2.0
PRODID:Events Booking
BEGIN:VEVENT
UID:69e707211400b
SUMMARY:Central Coast Support Group  
DESCRIPTION:This is an online group for people who are supported by&nbsp\;M
 ND Advisor Kath\,&nbsp\;that live on the Central Coast.
DTSTART:20220331T000000Z
DTEND:20220331T010000Z
DTSTAMP:20220120T163111Z
ORGANIZER;CN=MNDNSW Website - Events:MAILTO:info@mndnsw.org.au
END:VEVENT
END:VCALENDAR