BEGIN:VCALENDAR
VERSION:2.0
PRODID:Events Booking
BEGIN:VEVENT
UID:69e71ae277ed5
SUMMARY:Campbelltown Support Group
DESCRIPTION:The&nbsp\;Campbelltown Support Group meets bi-monthly&nbsp\;at 
 Campbelltown Arts Centre (or online if required). This is a group for peop
 le who are supported by&nbsp\;MND Advisor&nbsp\;Laura\,&nbsp\;that live in
  South Western Sydney.
 This group will be held in person at the Arts Cen
 tre.
DTSTART:20220213T230000Z
DTEND:20220214T000000Z
DTSTAMP:20220124T162943Z
ORGANIZER;CN=MNDNSW Website - Events:MAILTO:info@mndnsw.org.au
END:VEVENT
END:VCALENDAR