BEGIN:VCALENDAR
VERSION:2.0
PRODID:Events Booking
BEGIN:VEVENT
UID:69e6f12d4f3b9
SUMMARY:Campbelltown Support Group *Online*
DESCRIPTION:This is a support group for people who are supported by&nbsp\;M
 ND Advisor Laura\,&nbsp\;that live in South Western Sydney.
 This group w
 ill meet Online
DTSTART:20220414T000000Z
DTEND:20220414T010000Z
DTSTAMP:20220124T162950Z
ORGANIZER;CN=MNDNSW Website - Events:MAILTO:info@mndnsw.org.au
END:VEVENT
END:VCALENDAR