BEGIN:VCALENDAR
VERSION:2.0
PRODID:Events Booking
BEGIN:VEVENT
UID:69e71fdee997c
SUMMARY:North Sydney & Northern Beaches Support Group
DESCRIPTION:This is an online group for people who are supported by&nbsp\;M
 ND Advisor Lucy\,&nbsp\;that live in Northern Sydney and the Northern Beac
 hes.
DTSTART:20220216T230000Z
DTEND:20220217T000000Z
DTSTAMP:20220124T163525Z
ORGANIZER;CN=MNDNSW Website - Events:MAILTO:info@mndnsw.org.au
END:VEVENT
END:VCALENDAR