BEGIN:VCALENDAR
VERSION:2.0
PRODID:Events Booking
BEGIN:VEVENT
UID:69e71ad87345f
SUMMARY:Newcastle and Hunter Support Group
DESCRIPTION:This is an online group for people who are supported by&nbsp\;M
 ND Advisor Shannon\,&nbsp\;that live in the Newcastle and Hunter area.
DTSTART:20220222T230000Z
DTEND:20220223T003000Z
DTSTAMP:20220124T170844Z
ORGANIZER;CN=MNDNSW Website - Events:MAILTO:info@mndnsw.org.au
END:VEVENT
END:VCALENDAR