BEGIN:VCALENDAR
VERSION:2.0
PRODID:Events Booking
BEGIN:VEVENT
UID:69e7073238306
SUMMARY:Illawarra Support Group 
DESCRIPTION:The Illawarra Support Group meets monthly in the Warrawong area
  or online.
 Venue for this group is Online
DTSTART:20220315T230000Z
DTEND:20220316T000000Z
DTSTAMP:20220217T175728Z
ORGANIZER;CN=MNDNSW Website - Events:MAILTO:info@mndnsw.org.au
END:VEVENT
END:VCALENDAR