BEGIN:VCALENDAR
VERSION:2.0
PRODID:Events Booking
BEGIN:VEVENT
UID:69e6c7fca9f44
SUMMARY:Newcastle and Hunter Support Group
DESCRIPTION:This is a group for people who are supported by&nbsp\;MND Advis
 ors&nbsp\;Shannon and Eileen\,&nbsp\;that live in the Newcastle and Hunter
  area.
LOCATION:23 Caldwell St\, Merewether NSW 2291
DTSTART:20220608T004500Z
DTEND:20220608T023000Z
DTSTAMP:20220413T165634Z
ORGANIZER;CN=MNDNSW Website - Events:MAILTO:info@mndnsw.org.au
GEO:-32.943038;151.748335
X-APPLE-STRUCTURED-LOCATION;VALUE=URI;X-ADDRESS=23 Caldwell St\, Merewether
  NSW 2291;X-APPLE-RADIUS=72;X-TITLE=Merewether Bowling Club:-32.943038;151
 .748335
END:VEVENT
END:VCALENDAR