BEGIN:VCALENDAR
VERSION:2.0
PRODID:Events Booking
BEGIN:VEVENT
UID:69e6c7fca9f6e
SUMMARY:North West Support Group  
DESCRIPTION:The North West Support Group currently meets bi-monthly and is 
 held online with your MND Advisor Savannah.&nbsp\;
DTSTART:20220606T000000Z
DTEND:20220606T010000Z
DTSTAMP:20220420T151618Z
ORGANIZER;CN=MNDNSW Website - Events:MAILTO:info@mndnsw.org.au
END:VEVENT
END:VCALENDAR