BEGIN:VCALENDAR
VERSION:2.0
PRODID:Events Booking
BEGIN:VEVENT
UID:69e6c85492462
SUMMARY:Campbelltown Support Group
DESCRIPTION:The&nbsp\;Campbelltown Support Group meets bi-monthly&nbsp\;at 
 Campbelltown Arts Centre (or online if required). This is a group for peop
 le who are supported by&nbsp\;MND Advisor&nbsp\;Laura\,&nbsp\;that live in
  South Western Sydney.
 This group will be held in person at the Arts Cen
 tre.
LOCATION: 1 Art Gallery Rd\, Campbelltown NSW 2560
DTSTART:20220609T000000Z
DTEND:20220609T020000Z
DTSTAMP:20220420T152625Z
ORGANIZER;CN=MNDNSW Website - Events:MAILTO:info@mndnsw.org.au
GEO:-34.072637;150.809007
X-APPLE-STRUCTURED-LOCATION;VALUE=URI;X-ADDRESS= 1 Art Gallery Rd\, Campbel
 ltown NSW 2560;X-APPLE-RADIUS=72;X-TITLE=Campbelltown Arts Centre:-34.0726
 37;150.809007
END:VEVENT
END:VCALENDAR