BEGIN:VCALENDAR
VERSION:2.0
PRODID:Events Booking
BEGIN:VEVENT
UID:69ea36adb8124
SUMMARY:Information Evening for people recently diagnosed with MND
DESCRIPTION:If you or someone close to you has been recently diagnosed with
  motor neurone disease (MND)\, this evening will provide an opportunity to
  have some of your questions answered in an informal setting.
LOCATION:Building 4\, Gladesville Hospital\, Victoria Rd\, Gladesville NSW 
 2111\, Australia
DTSTART:20181204T073000Z
DTEND:20181204T093000Z
DTSTAMP:20260423T151141Z
ORGANIZER;CN=MNDNSW Website - Events:MAILTO:info@mndnsw.org.au
GEO:-33.840077;151.134265
X-APPLE-STRUCTURED-LOCATION;VALUE=URI;X-ADDRESS=Building 4\, Gladesville Ho
 spital\, Victoria Rd\, Gladesville NSW 2111\, Australia;X-APPLE-RADIUS=72;
 X-TITLE=MND NSW Centre Gladesville:-33.840077;151.134265
END:VEVENT
END:VCALENDAR