BEGIN:VCALENDAR
VERSION:2.0
PRODID:Events Booking
BEGIN:VEVENT
UID:69e6c9c3adceb
SUMMARY:Team Barrett MND NSW Formal Fundraiser
DESCRIPTION:The Team Barrett MND NSW Formal Fundraiser is back again in 202
 2! Featuring a formal Dinner (2 courses) and drinks\, silent auction\, plu
 s live music\, the event is set to be a great night out.
LOCATION:Hunter St\, Newcastle NSW 2300\, Australia
DTSTART:20220618T080000Z
DTEND:20220618T130000Z
DTSTAMP:20220531T195232Z
ORGANIZER;CN=MNDNSW Website - Events:MAILTO:info@mndnsw.org.au
GEO:-32.925663;151.778757
X-APPLE-STRUCTURED-LOCATION;VALUE=URI;X-ADDRESS=Hunter St\, Newcastle NSW 2
 300\, Australia;X-APPLE-RADIUS=72;X-TITLE=Sprout @ Crown and Anchor:-32.92
 5663;151.778757
END:VEVENT
END:VCALENDAR