BEGIN:VCALENDAR
VERSION:2.0
PRODID:Events Booking
BEGIN:VEVENT
UID:69e6cab35be6b
SUMMARY:HD HR Holden Nationals Visiting Belconnen Bowling Club 
DESCRIPTION:HD HR Nationals are visiting the Belconnen Bowling Club on June
  12 to raise much-needed funds for MND NSW.
 The HD-HR Holden Nationals&n
 bsp\;is&nbsp\;the&nbsp\;annual&nbsp\;gathering of all HD-HR enthusiasts Au
 stralia wide. It is the highlight of the HD-HR year and it’s where you w
 ill find the most HD-HR’s gathered together at the one place at the one 
 time. In 2022 it will be held in Canberra ACT
 Hundreds of Holden enthusi
 asts from across Australia will travel there for the long weekend in June 
 10-12.
LOCATION:Beetaloo St\, Hawker ACT 2614
DTSTART:20220612T013000Z
DTEND:20220612T060000Z
DTSTAMP:20220531T201510Z
ORGANIZER;CN=MNDNSW Website - Events:MAILTO:info@mndnsw.org.au
GEO:-35.243781;149.040363
X-APPLE-STRUCTURED-LOCATION;VALUE=URI;X-ADDRESS=Beetaloo St\, Hawker ACT 26
 14;X-APPLE-RADIUS=72;X-TITLE=Belconnen Bowling Club:-35.243781;149.040363
END:VEVENT
END:VCALENDAR