BEGIN:VCALENDAR
VERSION:2.0
PRODID:Events Booking
BEGIN:VEVENT
UID:69e6c96005824
SUMMARY:Drink Tea for MND
DESCRIPTION:Rebecca Albury Hairdressing\, in Weston NSW will be hosting Dri
 nk Tea for MND throughout MND Week 2022! Donate towards your cup of tea or
  coffee to help support people living with motor neurone disease.
DTSTART:20220619T230000Z
DTEND:20220624T070000Z
DTSTAMP:20220601T140722Z
ORGANIZER;CN=MNDNSW Website - Events:MAILTO:info@mndnsw.org.au
END:VEVENT
END:VCALENDAR