BEGIN:VCALENDAR
VERSION:2.0
PRODID:Events Booking
BEGIN:VEVENT
UID:69e6ca5159403
SUMMARY:Coastline Credit Union MND Week fundraising
DESCRIPTION:Coastline Credit Union are raising much-needed funds for MND NS
 W throughout MND Week. Head on in to one of their five branches to donate\
 , or purchase MND NSW goodies to support people living with motor neurone 
 disease.
DTSTART:20220619T230000Z
DTEND:20220624T060000Z
DTSTAMP:20220601T142833Z
ORGANIZER;CN=MNDNSW Website - Events:MAILTO:info@mndnsw.org.au
END:VEVENT
END:VCALENDAR