BEGIN:VCALENDAR
VERSION:2.0
PRODID:Events Booking
BEGIN:VEVENT
UID:69e6c95e8d829
SUMMARY:Drink Tea for MND
DESCRIPTION:Monica will be hosting Drink Tea for MND an open house afternoo
 n/evening with merchandise for sale.
DTSTART:20220623T043000Z
DTEND:20220623T083000Z
DTSTAMP:20220601T143406Z
ORGANIZER;CN=MNDNSW Website - Events:MAILTO:info@mndnsw.org.au
END:VEVENT
END:VCALENDAR