BEGIN:VCALENDAR
VERSION:2.0
PRODID:Events Booking
BEGIN:VEVENT
UID:69e6c9ca65d06
SUMMARY:Bowral High School Ice Bucket Challenge
DESCRIPTION:Bowral High School are hosting an ice bucket challenge\, with a
 ll funds raised going towards supporting people living with motor neurone 
 disease.
LOCATION:2 Aitken Rd\, Bowral NSW 2576
DTSTART:20220629T000000Z
DTEND:20220629T050000Z
DTSTAMP:20220601T151240Z
ORGANIZER;CN=MNDNSW Website - Events:MAILTO:info@mndnsw.org.au
GEO:-34.488855;150.424714
X-APPLE-STRUCTURED-LOCATION;VALUE=URI;X-ADDRESS=2 Aitken Rd\, Bowral NSW 25
 76;X-APPLE-RADIUS=72;X-TITLE=Bowral High School:-34.488855;150.424714
END:VEVENT
END:VCALENDAR