BEGIN:VCALENDAR
VERSION:2.0
PRODID:Events Booking
BEGIN:VEVENT
UID:69e6b3218222e
SUMMARY:Riddla Golf Day
DESCRIPTION:Riddla MND Golf Fundraiser - Friday\, 8 July 2022Stonecutters R
 idge Golf Course\, 86 Stonecutters Drive\, Colebee NSW 2761
LOCATION:86 Stonecutters Drive\, Colebee NSW 2761
DTSTART:20220707T210000Z
DTSTAMP:20220601T152823Z
ORGANIZER;CN=MNDNSW Website - Events:MAILTO:info@mndnsw.org.au
GEO:-33.722318;150.864665
X-APPLE-STRUCTURED-LOCATION;VALUE=URI;X-ADDRESS=86 Stonecutters Drive\, Col
 ebee NSW 2761;X-APPLE-RADIUS=72;X-TITLE=Stonecutters Ridge Golf Club:-33.7
 22318;150.864665
END:VEVENT
END:VCALENDAR