BEGIN:VCALENDAR
VERSION:2.0
PRODID:Events Booking
BEGIN:VEVENT
UID:69e6ca9dc907c
SUMMARY:Wagga Wagga Marketplace MND Week Stall
DESCRIPTION:Our wonderful volunteers will be hosting a stall for MND Week a
 t Westfield Tuggerah. Pop by and say hi to learn more about motor neurone 
 disease\, and how your support is so vital to helping us continue to assis
 t people living with motor neurone disease. Merchandise will be available\
 , and your donations at the stall big or small to help us raise much-neede
 d funds are most appreciated.
LOCATION:87 Baylis St\, Wagga Wagga NSW 2650
DTSTART:20220620T000000Z
DTEND:20220624T060000Z
DTSTAMP:20220609T153349Z
ORGANIZER;CN=MNDNSW Website - Events:MAILTO:info@mndnsw.org.au
GEO:-35.11414;147.370073
X-APPLE-STRUCTURED-LOCATION;VALUE=URI;X-ADDRESS=87 Baylis St\, Wagga Wagga 
 NSW 2650;X-APPLE-RADIUS=72;X-TITLE=Wagga Wagga Marketplace:-35.11414;147.3
 70073
END:VEVENT
END:VCALENDAR