BEGIN:VCALENDAR
VERSION:2.0
PRODID:Events Booking
BEGIN:VEVENT
UID:69e5cfc730f46
SUMMARY:Team Barrett MND NSW Formal Fundraiser 2023
DESCRIPTION:The Team Barrett MND NSW Formal Fundraiser is back again in 202
 2! Featuring a formal Dinner (2 courses) and drinks\, silent auction\, plu
 s live music\, the event is set to be a great night out.
LOCATION:5 Henderson Parade Merewether
DTSTART:20230617T080000Z
DTEND:20230617T130000Z
DTSTAMP:20230108T130847Z
ORGANIZER;CN=MNDNSW Website - Events:MAILTO:info@mndnsw.org.au
GEO:-32.949383;151.756278
X-APPLE-STRUCTURED-LOCATION;VALUE=URI;X-ADDRESS=5 Henderson Parade Mereweth
 er;X-APPLE-RADIUS=72;X-TITLE=Merewether Surfhouse:-32.949383;151.756278
END:VEVENT
END:VCALENDAR