BEGIN:VCALENDAR
VERSION:2.0
PRODID:Events Booking
BEGIN:VEVENT
UID:69e637ec55923
SUMMARY:Dungog Charity Campdraft
DESCRIPTION:The Dungog Charity Campdraft is a 3 day campdrafting event that
  is ABCRA Affiliated and full points will be awarded.
LOCATION:Abelard St\, Dungog NSW 2420
DTSTART:20230113T010000Z
DTEND:20230115T030000Z
DTSTAMP:20230108T131252Z
ORGANIZER;CN=MNDNSW Website - Events:MAILTO:info@mndnsw.org.au
GEO:-32.407911;151.750317
X-APPLE-STRUCTURED-LOCATION;VALUE=URI;X-ADDRESS=Abelard St\, Dungog NSW 242
 0;X-APPLE-RADIUS=72;X-TITLE=Dungog Showground:-32.407911;151.750317
END:VEVENT
END:VCALENDAR