BEGIN:VCALENDAR
VERSION:2.0
PRODID:Events Booking
BEGIN:VEVENT
UID:69e5628f00f26
SUMMARY:MND NSW Never Give Up Three Peaks Challenge 2023
DESCRIPTION:Trek world renowned hiking trails to the summit of Australia’
 s highest peaks to provide and promote the best possible care and support 
 for people living with Motor Neuron Disease (MND).
DTSTART:20231123T130000Z
DTEND:20231125T130000Z
DTSTAMP:20230115T140652Z
ORGANIZER;CN=MNDNSW Website - Events:MAILTO:info@mndnsw.org.au
END:VEVENT
END:VCALENDAR