BEGIN:VCALENDAR
VERSION:2.0
PRODID:Events Booking
BEGIN:VEVENT
UID:69e5cce20b812
SUMMARY:Darren's Day
DESCRIPTION:Darren’s Day is a 3-course luncheon (includes wine &amp\; bee
 r) &nbsp\;held at The Junction Hotel.
LOCATION:204 Corlette Street\, The Junction
DTSTART:20230625T020000Z
DTEND:20230625T060000Z
DTSTAMP:20230522T170420Z
ORGANIZER;CN=MNDNSW Website - Events:MAILTO:info@mndnsw.org.au
GEO:-32.938292;151.760363
X-APPLE-STRUCTURED-LOCATION;VALUE=URI;X-ADDRESS=204 Corlette Street\, The J
 unction;X-APPLE-RADIUS=72;X-TITLE=The Junction Hotel:-32.938292;151.760363
END:VEVENT
END:VCALENDAR