BEGIN:VCALENDAR
VERSION:2.0
PRODID:Events Booking
BEGIN:VEVENT
UID:69e5cf48cf8d2
SUMMARY:Inspired by Leny MND Stall
DESCRIPTION:Karen and her friends will be running a stall at her local West
 fields on Blue Cornflower Day during MND week 2023.
 She will be selling 
 an array of MND NSW merchandise and raffle tickets throughout the day.
 S
 wing by her stall to show your support.
LOCATION:Westfield Shopping Centre\, 50 Wyong Rd\, Tuggerah NSW 2259\, Aust
 ralia
DTSTART:20230622T230000Z
DTEND:20230623T070000Z
DTSTAMP:20230529T211213Z
ORGANIZER;CN=MNDNSW Website - Events:MAILTO:info@mndnsw.org.au
GEO:-33.308391;151.413401
X-APPLE-STRUCTURED-LOCATION;VALUE=URI;X-ADDRESS=Westfield Shopping Centre\,
  50 Wyong Rd\, Tuggerah NSW 2259\, Australia;X-APPLE-RADIUS=72;X-TITLE=Wes
 tfield Tuggerah:-33.308391;151.413401
END:VEVENT
END:VCALENDAR