BEGIN:VCALENDAR
VERSION:2.0
PRODID:Events Booking
BEGIN:VEVENT
UID:69e5cc373bbec
SUMMARY:MND Cold Plunge
DESCRIPTION:Join Max for the&nbsp\; MND Cold Plunge&nbsp\; at Moama Beach o
 n Sunday June 11!The quick dip in the Murray River will raise much-needed 
 funds for MND NSW.
LOCATION:Blair Street\, Moama NSW
DTSTART:20230610T230000Z
DTEND:20230611T000000Z
DTSTAMP:20230606T172914Z
ORGANIZER;CN=MNDNSW Website - Events:MAILTO:info@mndnsw.org.au
GEO:-36.12131;144.752847
X-APPLE-STRUCTURED-LOCATION;VALUE=URI;X-ADDRESS=Blair Street\, Moama NSW;X-
 APPLE-RADIUS=72;X-TITLE=Moama Beach:-36.12131;144.752847
END:VEVENT
END:VCALENDAR