BEGIN:VCALENDAR
VERSION:2.0
PRODID:Events Booking
BEGIN:VEVENT
UID:69e5cf50cc501
SUMMARY:Lynette's Head Shave for MND
DESCRIPTION:Lynette will be heading along to Bunnings Seven Hills on June 1
 4\, shaving all of her hair off just in time for winter from 11am.
 &nbsp
 \;
LOCATION:Old Windsor Road\, Seven Hills\, NSW
DTSTART:20230614T010000Z
DTSTAMP:20230612T212107Z
ORGANIZER;CN=MNDNSW Website - Events:MAILTO:info@mndnsw.org.au
GEO:-33.766447;150.956945
X-APPLE-STRUCTURED-LOCATION;VALUE=URI;X-ADDRESS=Old Windsor Road\, Seven Hi
 lls\, NSW;X-APPLE-RADIUS=72;X-TITLE=Bunnings Seven Hills:-33.766447;150.95
 6945
END:VEVENT
END:VCALENDAR