BEGIN:VCALENDAR
VERSION:2.0
PRODID:Events Booking
BEGIN:VEVENT
UID:69e578a7719a7
SUMMARY:Ice Bucket Challenge and Monster Raffle
DESCRIPTION:Join the Ice Bucket Challenge and win big in the Monster Raffle
  being held at Salvation Army Tweed Centre in Banora Point on October 8!

  Jill and her friends Janette\, Brian and Robyn will be hosting the event 
 to raise funds for MND NSW.
LOCATION:Cnr Leisure &\, Woodlands Dr\, Banora Point NSW 2486
DTSTART:20231008T003000Z
DTSTAMP:20230717T180631Z
ORGANIZER;CN=MNDNSW Website - Events:MAILTO:info@mndnsw.org.au
GEO:-28.215034;153.528492
X-APPLE-STRUCTURED-LOCATION;VALUE=URI;X-ADDRESS=Cnr Leisure &\, Woodlands D
 r\, Banora Point NSW 2486;X-APPLE-RADIUS=72;X-TITLE=Salvation Army Tweed C
 entre:-28.215034;153.528492
END:VEVENT
END:VCALENDAR