BEGIN:VCALENDAR
VERSION:2.0
PRODID:Events Booking
BEGIN:VEVENT
UID:69e5911dd43c8
SUMMARY:Sandy Hollow Motorfest and Swap Meet
DESCRIPTION:The Sandy Hollow Motorfest and Swap Meet is back in 2023!&nbsp\
 ;
 Head along to the Tourist Hotel from 9am Saturday September 8 for acti
 vities and fun for the whole family.
 &nbsp\;
LOCATION:Golden Hwy\, Sandy Hollow NSW 2333
DTSTART:20230908T230000Z
DTSTAMP:20230720T144640Z
ORGANIZER;CN=MNDNSW Website - Events:MAILTO:info@mndnsw.org.au
GEO:-32.334956;150.566979
X-APPLE-STRUCTURED-LOCATION;VALUE=URI;X-ADDRESS=Golden Hwy\, Sandy Hollow N
 SW 2333;X-APPLE-RADIUS=72;X-TITLE=Tourist Hotel:-32.334956;150.566979
END:VEVENT
END:VCALENDAR