BEGIN:VCALENDAR
VERSION:2.0
PRODID:Events Booking
BEGIN:VEVENT
UID:69e5a5ed9bcd1
SUMMARY:Estate / Garage Sale - Hulls Rd Leppington
DESCRIPTION:Don't miss the estate sale happening in aid of MND NSW on Augus
 t 12 and 13 at Hulls Rd Leppington!
 &nbsp\;
LOCATION:Hulls Rd\, Leppington NSW
DTSTART:20230811T220000Z
DTEND:20230813T020000Z
DTSTAMP:20230726T234618Z
ORGANIZER;CN=MNDNSW Website - Events:MAILTO:info@mndnsw.org.au
GEO:-33.985634;150.789693
X-APPLE-STRUCTURED-LOCATION;VALUE=URI;X-ADDRESS=Hulls Rd\, Leppington NSW;X
 -APPLE-RADIUS=72;X-TITLE=Hulls Rd\, Leppington:-33.985634;150.789693
END:VEVENT
END:VCALENDAR