BEGIN:VCALENDAR
VERSION:2.0
PRODID:Events Booking
BEGIN:VEVENT
UID:69e54d7e02d8c
SUMMARY:Christmas at the B
DESCRIPTION:Come and celebrate with the Queanbeyan Players family for a nig
 ht of fun trivia\, then stick around for some beautiful music with the Que
 anbeyan Players Christmas choir.
 Tickets:
 Single ticket $30pp
 Groups
  of 10+ $25pp
 Their will be Grazing boxes available through The Lazy Gra
 zer.
 All profits raised will be donated to MND NSW\, in loving memory of
  Tascha Loasdman.
LOCATION:253 Crawford St\, Queanbeyan NSW 2620
DTSTART:20231216T080000Z
DTSTAMP:20231005T194113Z
ORGANIZER;CN=MNDNSW Website - Events:MAILTO:info@mndnsw.org.au
GEO:-35.35458;149.234079
X-APPLE-STRUCTURED-LOCATION;VALUE=URI;X-ADDRESS=253 Crawford St\, Queanbeya
 n NSW 2620;X-APPLE-RADIUS=72;X-TITLE=The Q:-35.35458;149.234079
END:VEVENT
END:VCALENDAR