BEGIN:VCALENDAR
VERSION:2.0
PRODID:Events Booking
BEGIN:VEVENT
UID:69e56283aeaff
SUMMARY:F U MND
DESCRIPTION:Charlie will be hosting FU MND to raise awareness about motor n
 eurone disease and raise funds for MND NSW at the Diamond Bay Bowling Club
 .
LOCATION:709 Old South Head Rd\, Vaucluse NSW 2030
DTSTART:20231125T063000Z
DTEND:20231125T113000Z
DTSTAMP:20231010T171509Z
ORGANIZER;CN=MNDNSW Website - Events:MAILTO:info@mndnsw.org.au
GEO:-33.861731;151.278541
X-APPLE-STRUCTURED-LOCATION;VALUE=URI;X-ADDRESS=709 Old South Head Rd\, Vau
 cluse NSW 2030;X-APPLE-RADIUS=72;X-TITLE=Diamond Bay Bowling Club:-33.8617
 31;151.278541
END:VEVENT
END:VCALENDAR