BEGIN:VCALENDAR
VERSION:2.0
PRODID:Events Booking
BEGIN:VEVENT
UID:69e52047e42e6
SUMMARY:Pambula Merimbula Golf Club Charity Event
DESCRIPTION:
LOCATION:173 Arthur Kaine Drive Merimbula NSW 2548
DTSTART:20240205T230000Z
DTEND:20240206T060000Z
DTSTAMP:20240124T201553Z
ORGANIZER;CN=MNDNSW Website - Events:MAILTO:info@mndnsw.org.au
GEO:-36.92434;149.892009
X-APPLE-STRUCTURED-LOCATION;VALUE=URI;X-ADDRESS=173 Arthur Kaine Drive Meri
 mbula NSW 2548;X-APPLE-RADIUS=72;X-TITLE=Pambula Merimbula Golf Club:-36.9
 2434;149.892009
END:VEVENT
END:VCALENDAR