BEGIN:VCALENDAR
VERSION:2.0
PRODID:Events Booking
BEGIN:VEVENT
UID:69e53793eafd6
SUMMARY:Clifton Old Bar Residents Social Club
DESCRIPTION:The Clifton Old Bar Residents Social Club will be holding a raf
 fle to raise funds for MND NSW. Tickets are available now\, with the raffl
 e drawn on 24 March 2024.
 Visit&nbsp\;Clifton Old Bar at 119 Forest Lane
 \, Old Bar\, to purchase tickets.
LOCATION:119 Forest Ln\, Old Bar NSW 2430
DTSTART:20240125T130000Z
DTEND:20240323T180000Z
DTSTAMP:20240124T203013Z
ORGANIZER;CN=MNDNSW Website - Events:MAILTO:info@mndnsw.org.au
GEO:-31.973959;152.577772
X-APPLE-STRUCTURED-LOCATION;VALUE=URI;X-ADDRESS=119 Forest Ln\, Old Bar NSW
  2430;X-APPLE-RADIUS=72;X-TITLE=Clifton Old Bar:-31.973959;152.577772
END:VEVENT
END:VCALENDAR