BEGIN:VCALENDAR
VERSION:2.0
PRODID:Events Booking
BEGIN:VEVENT
UID:69e4de9a0d5b9
SUMMARY:Mudgee Classic 2024
DESCRIPTION:Support Motor Neurone Disease NSW in the Mudgee Classic 2024!

  Set in New South Wales’ beautiful Mudgee wine region\, the Mudgee Class
 ic caters for all levels of cycling ability\, offering four courses: 175km
  Maxi Classic\, 125km Challenge Classic\, 65km Rouleurs Classic and the 55
 km Dirty Mudgee Gravel Ride.
 Register now here.
LOCATION:Church Street\, Mudgee
DTSTART:20240504T013000Z
DTEND:20240505T060000Z
DTSTAMP:20240124T205151Z
ORGANIZER;CN=MNDNSW Website - Events:MAILTO:info@mndnsw.org.au
GEO:-32.591259;149.589011
X-APPLE-STRUCTURED-LOCATION;VALUE=URI;X-ADDRESS=Church Street\, Mudgee;X-AP
 PLE-RADIUS=72;X-TITLE=Church Street\, Mudgee:-32.591259;149.589011
END:VEVENT
END:VCALENDAR