BEGIN:VCALENDAR
VERSION:2.0
PRODID:Events Booking
BEGIN:VEVENT
UID:69e50a111c63f
SUMMARY:LET THE RIVER FLOW - MND Movie Fundraiser by Pappa Sven and Avoca B
 each Theatre
DESCRIPTION:In celebration of International Women's Day\, Pappa Sven is hos
 ting the Norwegian film LET THE RIVER FLOW at the&nbsp\;Avoca Beach Theatr
 e&nbsp\;on March 17 to raise money for&nbsp\;Motor Neurone Disease NSW.
 
 LET THE RIVER FLOW is based on true events that inspired a generation of y
 oung Norwegians. Writer/director Ole Giæver’s elegant\, multi award-win
 ning historical drama follows a young woman who is unintentionally drawn i
 nto a protest against a dam&nbsp\;that may flood Indigenous Sámi land.
 
 &nbsp\;
LOCATION:69 Avoca Dr\, Avoca Beach NSW 2251
DTSTART:20240317T063000Z
DTEND:20240317T084000Z
DTSTAMP:20240306T204713Z
ORGANIZER;CN=MNDNSW Website - Events:MAILTO:info@mndnsw.org.au
GEO:-33.470784;151.436392
X-APPLE-STRUCTURED-LOCATION;VALUE=URI;X-ADDRESS=69 Avoca Dr\, Avoca Beach N
 SW 2251;X-APPLE-RADIUS=72;X-TITLE=Avoca Beach Theatre:-33.470784;151.43639
 2
END:VEVENT
END:VCALENDAR