BEGIN:VCALENDAR
VERSION:2.0
PRODID:Events Booking
BEGIN:VEVENT
UID:69e4f26ed6d09
SUMMARY:Plant Sale
DESCRIPTION:Lyn and Doreen are hosting a plant sale from 10am until 4pm on 
 April 28 to raise money for MND NSW.
 Head to 16 Tompson Road\, Revesby\,
  and get yourself some new greenery in support of people living with motor
  neurone disease.
LOCATION:16 Tompson Road\, Revesby NSW
DTSTART:20240428T000000Z
DTEND:20240428T060000Z
DTSTAMP:20240417T184140Z
ORGANIZER;CN=MNDNSW Website - Events:MAILTO:info@mndnsw.org.au
GEO:-33.959855;151.015139
X-APPLE-STRUCTURED-LOCATION;VALUE=URI;X-ADDRESS=16 Tompson Road\, Revesby N
 SW;X-APPLE-RADIUS=72;X-TITLE=16 Tompson Road\, Revesby NSW:-33.959855;151.
 015139
END:VEVENT
END:VCALENDAR