BEGIN:VCALENDAR
VERSION:2.0
PRODID:Events Booking
BEGIN:VEVENT
UID:69e4dedf04f66
SUMMARY:MND Awareness\, Port Macquarie
DESCRIPTION:Cathy will be holding the MND Awareness stall in Port Macquarie
  to raise funds to provide equipment\, education and support to people liv
 ing with MND\, their families and carers.
 Pop in to see her at Port Cent
 ral Shopping Centre\, 40-42 Horton Street\, Port Macquarie from 9am to 6pm
  this Thursday\, Friday and Saturday\, and get yourself some MND NSW goodi
 es!
LOCATION:40-42 Horton Street\, Port Macquarie NSW
DTSTART:20240501T230000Z
DTEND:20240504T080000Z
DTSTAMP:20240429T183731Z
ORGANIZER;CN=MNDNSW Website - Events:MAILTO:info@mndnsw.org.au
GEO:-31.429758;152.909486
X-APPLE-STRUCTURED-LOCATION;VALUE=URI;X-ADDRESS=40-42 Horton Street\, Port 
 Macquarie NSW;X-APPLE-RADIUS=72;X-TITLE=Port Central Shopping Centre:-31.4
 29758;152.909486
END:VEVENT
END:VCALENDAR