BEGIN:VCALENDAR
VERSION:2.0
PRODID:Events Booking
BEGIN:VEVENT
UID:69e4dec80819c
SUMMARY:The Things I Do for MND
DESCRIPTION:Carolyn and Brenda are losing their locks for a very good cause
  - to support people living with MND.
 With professional and personal con
 nections with MND\, Carolyn\, MND NSW Coordinator of Support\, and Brenda\
 , MND NSW&nbsp\;Manager Administration and Finance\, are raising vital fun
 ds to help provide equipment\, education and support for people living wit
 h MND and their families.
 Find out more or donate now here
LOCATION:6/28 Canton Beach Rd\, Toukley NSW 2263
DTSTART:20240517T030000Z
DTEND:20240517T040000Z
DTSTAMP:20240429T184635Z
ORGANIZER;CN=MNDNSW Website - Events:MAILTO:info@mndnsw.org.au
GEO:-33.264748;151.540648
X-APPLE-STRUCTURED-LOCATION;VALUE=URI;X-ADDRESS=6/28 Canton Beach Rd\, Touk
 ley NSW 2263;X-APPLE-RADIUS=72;X-TITLE=Mulligan's Barber:-33.264748;151.54
 0648
END:VEVENT
END:VCALENDAR